BEGIN:VCALENDAR
VERSION:2.0
PRODID:-//School of Statesmanship, Stewardship, and Service (SOSSAS) - ECPv6.15.20//NONSGML v1.0//EN
CALSCALE:GREGORIAN
METHOD:PUBLISH
X-ORIGINAL-URL:https://sossas.org
X-WR-CALDESC:Events for School of Statesmanship, Stewardship, and Service (SOSSAS)
REFRESH-INTERVAL;VALUE=DURATION:PT1H
X-Robots-Tag:noindex
X-PUBLISHED-TTL:PT1H
BEGIN:VTIMEZONE
TZID:UTC
BEGIN:STANDARD
TZOFFSETFROM:+0000
TZOFFSETTO:+0000
TZNAME:UTC
DTSTART:20240101T000000
END:STANDARD
END:VTIMEZONE
BEGIN:VEVENT
DTSTART;TZID=UTC:20251002T180000
DTEND;TZID=UTC:20251002T200000
DTSTAMP:20260422T215220
CREATED:20250616T173440Z
LAST-MODIFIED:20250616T173440Z
UID:1570-1759428000-1759435200@sossas.org
SUMMARY:Pints & Perspectives: October 2 – Meet the Candidates
DESCRIPTION:Hosted by Left Hand Brewing Co and School of Statesmanship\, Stewardship\, and Service (SOSSAS)\, Pints & Perspectives is a FREE bi-weekly series design to foster enriching conversation on topics affecting the community of Longmont and beyond. The series boasts rich subject matter like understanding trends & change in our town to designing the future of our town\, culminating in the opportunity to meet candidates running for office in Longmont. \nThursdays\, 6-8pm\nMay 29 – Oct 30\, 2025 \nLeft Hand Tasting Room\n1265 Boston Ave\, Longmont\, CO \nDISCUSSION TOPICS:\n• May 29 – Healthy Socio-Economic Culture\n• June 12 – Grey & Green Environmentalism\n• June 26 – Service-Minded Culture\n• July 10 – Sustainability and Resilience\n• July 24 – Benefits and Goodness of Growth\n• August 7 – Affordable Longmont\n• August 21 – Transportation & Infrastructure\n• September 4 – Making an Impact \nMEET THE CANDIDATES:\n• September 18 – Meet the Candidates\n• October 2 – Meet the Candidates\n• October 16 – Meet the Candidates\n• October 30 – Meet the Candidates \nno registration required
URL:https://sossas.org/event/pints-perspectives-october-2-meet-the-candidates/
LOCATION:Left Hand Tasting Room\, 1265 Boston Ave\, Longmont\, CO\, United States
END:VEVENT
END:VCALENDAR