BEGIN:VCALENDAR
VERSION:2.0
PRODID:-//School of Statesmanship, Stewardship, and Service (SOSSAS) - ECPv6.15.20//NONSGML v1.0//EN
CALSCALE:GREGORIAN
METHOD:PUBLISH
X-WR-CALNAME:School of Statesmanship, Stewardship, and Service (SOSSAS)
X-ORIGINAL-URL:https://sossas.org
X-WR-CALDESC:Events for School of Statesmanship, Stewardship, and Service (SOSSAS)
REFRESH-INTERVAL;VALUE=DURATION:PT1H
X-Robots-Tag:noindex
X-PUBLISHED-TTL:PT1H
BEGIN:VTIMEZONE
TZID:UTC
BEGIN:STANDARD
TZOFFSETFROM:+0000
TZOFFSETTO:+0000
TZNAME:UTC
DTSTART:20240101T000000
END:STANDARD
END:VTIMEZONE
BEGIN:VEVENT
DTSTART;TZID=UTC:20251112T180000
DTEND;TZID=UTC:20251112T193000
DTSTAMP:20260422T225051
CREATED:20251023T145048Z
LAST-MODIFIED:20251206T230726Z
UID:1840-1762970400-1762975800@sossas.org
SUMMARY:SOSSAS Salon Series
DESCRIPTION:You’re Invited: SOSSAS Salon Series\n\nDate: Wednesday\, November 12\nTime: 6:00–7:30 PM\nLocation: 1824 Sundance Dr.\, Longmont\, Colorado \nWe hope you had a wonderful Thanksgiving\, time to reflect\, time for gratitude\, time for simple prayers for a better future for all the world… \nCharles Osgood shared in a 1998 Thanksgiving message on CBS Sunday Morning\, “Americans have much to be grateful for\, particularly their loved ones\, and should be thankful not just for what is on the table for Thanksgiving\, but especially for the people seated around it.” He noted that while Americans may have worries and things to be critical or angry about\, they have just as much to be pleased and hopeful about. Osgood reminded listeners that in a world with many lonely people\, those with family and friends are the lucky ones. \nWe experienced this blessing of friends and great food at our 1st SOSSAS Salon on November 12th. We had a beautiful gathering of those who had taken classes with SOSSAS and participants from our Pints & Perspectives series. It was a wonderful time to get to know each other in a casual and beautiful social environment. I believe the social connections provide a sense of belonging and are truly a gift to everyone who attended. We enjoyed a delicious meal and a beautiful variety of appetizers and desserts\, contributions from everyone and an exchange of recipes. The training from Carol Setters ‘Clean Talk’ was valuable and informative\, especially as we worked in small groups to practice and role play communication in difficult situations. \nWe are having our 2nd SOSSAS Salon on Monday\, December 15th\, 6 to 8 PM at our home\, 1824 Sundance Dr. in Longmont. In the spirit of the season\, our second SOSSAS Salon will focus on our personal gifts\, recognizing the gifts of others\, and how we can help those less fortunate recognize and bring their gifts to the center. What a setting we create when people can perceive and leverage their gifts for the good of others. \nPlease bring an appetizer or dessert and RSVP to Carol at 303-517-2583. Texts are encouraged.
URL:https://sossas.org/event/sossas-salon-series/
END:VEVENT
BEGIN:VEVENT
DTSTART;TZID=UTC:20260204T180000
DTEND;TZID=UTC:20260204T193000
DTSTAMP:20260422T225051
CREATED:20251024T204746Z
LAST-MODIFIED:20251024T204746Z
UID:1855-1770228000-1770233400@sossas.org
SUMMARY:Practical Applications of Stewardship Principles week 1
DESCRIPTION:Feeling like today’s leadership models are…worn out? Join our February series to discover how stewardship transforms leadership and builds communities that thrive on trust and shared responsibility. \nLocation: Longmont Chamber of Commerce Conference Room\, 528 N. Main\, Longmont\, Colorado \nPrice: $99 \nLearn more and signup
URL:https://sossas.org/event/practical-applications-of-stewardship-principles-week-1/
LOCATION:Longmont Chamber of Commerce\, 528 Main Street\, Longmont\, CO\, United States
END:VEVENT
BEGIN:VEVENT
DTSTART;TZID=UTC:20260211T180000
DTEND;TZID=UTC:20260211T193000
DTSTAMP:20260422T225051
CREATED:20251024T204946Z
LAST-MODIFIED:20251024T204946Z
UID:1884-1770832800-1770838200@sossas.org
SUMMARY:Practical Applications of Stewardship Principles week 2
DESCRIPTION:Feeling like today’s leadership models are…worn out? Join our February series to discover how stewardship transforms leadership and builds communities that thrive on trust and shared responsibility. \nLocation: Longmont Chamber of Commerce Conference Room\, 528 N. Main\, Longmont\, Colorado \nPrice: $99 \nLearn more and signup
URL:https://sossas.org/event/practical-applications-of-stewardship-principles-week-2/
END:VEVENT
BEGIN:VEVENT
DTSTART;TZID=UTC:20260218T180000
DTEND;TZID=UTC:20260218T193000
DTSTAMP:20260422T225051
CREATED:20251024T205240Z
LAST-MODIFIED:20251024T205240Z
UID:1887-1771437600-1771443000@sossas.org
SUMMARY:Practical Applications of Stewardship Principles week 3
DESCRIPTION:Feeling like today’s leadership models are…worn out? Join our February series to discover how stewardship transforms leadership and builds communities that thrive on trust and shared responsibility. \nLocation: Longmont Chamber of Commerce Conference Room\, 528 N. Main\, Longmont\, Colorado \nPrice: $99 \nLearn more and signup
URL:https://sossas.org/event/practical-applications-of-stewardship-principles-week-3/
END:VEVENT
BEGIN:VEVENT
DTSTART;TZID=UTC:20260225T180000
DTEND;TZID=UTC:20260225T193000
DTSTAMP:20260422T225051
CREATED:20251024T205355Z
LAST-MODIFIED:20251024T205355Z
UID:1890-1772042400-1772047800@sossas.org
SUMMARY:Practical Applications of Stewardship Principles week 4
DESCRIPTION:Feeling like today’s leadership models are…worn out? Join our February series to discover how stewardship transforms leadership and builds communities that thrive on trust and shared responsibility. \nLocation: Longmont Chamber of Commerce Conference Room\, 528 N. Main\, Longmont\, Colorado \nPrice: $99 \nLearn more and signup
URL:https://sossas.org/event/practical-applications-of-stewardship-principles-week-4/
END:VEVENT
BEGIN:VEVENT
DTSTART;TZID=UTC:20260228T093000
DTEND;TZID=UTC:20260228T160000
DTSTAMP:20260422T225051
CREATED:20250805T205730Z
LAST-MODIFIED:20251007T183944Z
UID:1587-1772271000-1772294400@sossas.org
SUMMARY:Youth Citizenship Moved to Spring 2026
DESCRIPTION:Brought to you by: SOSSAS (School of Statesmanship\, Stewardship & Service)\nand Longmont Twin Peaks Rotary \nJOIN IN\, STEP OUT\, & FEEL CONNECTED\nWHAT YOU’LL GAIN THROUGH THE YOUTH CITIZENSHIP EXPERIENCE: \n\nBuild self-leadership Skills: Learn how to lead yourself with purpose\, confidence and clarity\nDevelop Civic Voice: Explore how your ideas can shape your school\, community\, and beyond\nConnect with Local Leaders: Explore how your ideas can shape your school\, community\, and beyond\nGrow Digital Citizenship: Engage in 4 weeks of online leadership training rooted in real-world aspect\nDiscover your power as a Citizen: Engage in 4 weeks of online leadership training rooted in real-world aspect\nJoin a community of Changemakers: Become part of a youth movement driven by service and responsibility.\nTeam Up to Learn Hands-on Service: Discover a hands-on service initiative OR connect with a community project.\n\n  \nJoin students from across Longmont for a full-day workshop led by Rotarians and civic educators. Dive into an additional four weeks of online leadership training with courageous conversations and hands-on service in a welcoming\, interactive environment. \nContinental Breakfast & Lunch provided by Twin Peaks Rotary \nFREE TO STUDENTS! Registration required\, see below to RSVP. \nPlease enable JavaScript in your browser to complete this form.Please enable JavaScript in your browser to complete this form.Name *FirstLastPhone Number *		\n			Name Email Number\n			\n		\n		Email *RSVP  \nTraining powered by SOSSAS – School of Statesmanship\, Stewardship\, and Service. Meet your Rotary mentor and begin your journey as an engaged citizen.
URL:https://sossas.org/event/rotary-youth-citizenship-project/
LOCATION:Friendship Center\, 803 3rd Avenue\, Longmont\, Colorado
END:VEVENT
BEGIN:VEVENT
DTSTART;TZID=UTC:20260304T180000
DTEND;TZID=UTC:20260304T193000
DTSTAMP:20260422T225051
CREATED:20251024T205506Z
LAST-MODIFIED:20251024T205506Z
UID:1893-1772647200-1772652600@sossas.org
SUMMARY:Practical Applications of Stewardship Principles week 5
DESCRIPTION:Feeling like today’s leadership models are…worn out? Join our February series to discover how stewardship transforms leadership and builds communities that thrive on trust and shared responsibility. \nLocation: Longmont Chamber of Commerce Conference Room\, 528 N. Main\, Longmont\, Colorado \nPrice: $99 \nLearn more and signup
URL:https://sossas.org/event/practical-applications-of-stewardship-principles-week-5/
END:VEVENT
BEGIN:VEVENT
DTSTART;TZID=UTC:20260411T093000
DTEND;TZID=UTC:20260411T150000
DTSTAMP:20260422T225051
CREATED:20251104T181431Z
LAST-MODIFIED:20251104T181504Z
UID:1905-1775899800-1775919600@sossas.org
SUMMARY:Young Leaders of the Future
DESCRIPTION:tbd
URL:https://sossas.org/event/young-leaders-of-the-future/
LOCATION:St. Vrain Innovation Center\, 33 Quail Road\, Longmont\, Colorado\, United States
END:VEVENT
BEGIN:VEVENT
DTSTART;TZID=UTC:20260411T093000
DTEND;TZID=UTC:20260411T153000
DTSTAMP:20260422T225051
CREATED:20260112T184946Z
LAST-MODIFIED:20260112T185406Z
UID:2056-1775899800-1775921400@sossas.org
SUMMARY:Longmont Youth Leadership Awards
DESCRIPTION:Looking For Fun\, Friendship\, Making A Difference\, & Becoming A Leader In Longmont?\nJoin Us For LYLA\nApril 11\, 2026\nFrom 9:30am – 3:30pm\nSt. Vrain Innovation Center \nRecognizing High School Students Across St. Vrain School District:\nDevelop attributes\, character\, and leadership skills to become an effective change-maker wherever your path takes you with opportunities to lead and serve locally in your community. \nScholarships available to all students.\nApplications available with your high school counselor. \nQuestions: Call or Text Carol 303-517-2583\nor carol@sossas.org \nPresented By:
URL:https://sossas.org/event/longmont-youth-leadership-awards/
LOCATION:St. Vrain Innovation Center\, 33 Quail Road\, Longmont\, Colorado\, United States
END:VEVENT
END:VCALENDAR