BEGIN:VCALENDAR
VERSION:2.0
PRODID:-//School of Statesmanship, Stewardship, and Service (SOSSAS) - ECPv6.15.20//NONSGML v1.0//EN
CALSCALE:GREGORIAN
METHOD:PUBLISH
X-WR-CALNAME:School of Statesmanship, Stewardship, and Service (SOSSAS)
X-ORIGINAL-URL:https://sossas.org
X-WR-CALDESC:Events for School of Statesmanship, Stewardship, and Service (SOSSAS)
REFRESH-INTERVAL;VALUE=DURATION:PT1H
X-Robots-Tag:noindex
X-PUBLISHED-TTL:PT1H
BEGIN:VTIMEZONE
TZID:UTC
BEGIN:STANDARD
TZOFFSETFROM:+0000
TZOFFSETTO:+0000
TZNAME:UTC
DTSTART:20230101T000000
END:STANDARD
END:VTIMEZONE
BEGIN:VEVENT
DTSTART;TZID=UTC:20250724T180000
DTEND;TZID=UTC:20250724T200000
DTSTAMP:20260422T225604
CREATED:20250616T172923Z
LAST-MODIFIED:20250616T172923Z
UID:1552-1753380000-1753387200@sossas.org
SUMMARY:Pints & Perspectives: Benefits and Goodness of Growth
DESCRIPTION:Hosted by Left Hand Brewing Co and School of Statesmanship\, Stewardship\, and Service (SOSSAS)\, Pints & Perspectives is a FREE bi-weekly series design to foster enriching conversation on topics affecting the community of Longmont and beyond. The series boasts rich subject matter like understanding trends & change in our town to designing the future of our town\, culminating in the opportunity to meet candidates running for office in Longmont. \nThursdays\, 6-8pm\nMay 29 – Oct 30\, 2025 \nLeft Hand Tasting Room\n1265 Boston Ave\, Longmont\, CO \nDISCUSSION TOPICS:\n• May 29 – Healthy Socio-Economic Culture\n• June 12 – Grey & Green Environmentalism\n• June 26 – Service-Minded Culture\n• July 10 – Sustainability and Resilience\n• July 24 – Benefits and Goodness of Growth\n• August 7 – Affordable Longmont\n• August 21 – Transportation & Infrastructure\n• September 4 – Making an Impact \nMEET THE CANDIDATES:\n• September 18 – Meet the Candidates\n• October 2 – Meet the Candidates\n• October 16 – Meet the Candidates\n• October 30 – Meet the Candidates \nno registration required
URL:https://sossas.org/event/pints-perspectives-benefits-and-goodness-of-growth/
LOCATION:Left Hand Tasting Room\, 1265 Boston Ave\, Longmont\, CO\, United States
END:VEVENT
BEGIN:VEVENT
DTSTART;TZID=UTC:20250710T180000
DTEND;TZID=UTC:20250710T200000
DTSTAMP:20260422T225604
CREATED:20250616T173019Z
LAST-MODIFIED:20250616T173019Z
UID:1554-1752170400-1752177600@sossas.org
SUMMARY:Pints & Perspectives: Sustainability and Resilience
DESCRIPTION:Hosted by Left Hand Brewing Co and School of Statesmanship\, Stewardship\, and Service (SOSSAS)\, Pints & Perspectives is a FREE bi-weekly series design to foster enriching conversation on topics affecting the community of Longmont and beyond. The series boasts rich subject matter like understanding trends & change in our town to designing the future of our town\, culminating in the opportunity to meet candidates running for office in Longmont. \nThursdays\, 6-8pm\nMay 29 – Oct 30\, 2025 \nLeft Hand Tasting Room\n1265 Boston Ave\, Longmont\, CO \nDISCUSSION TOPICS:\n• May 29 – Healthy Socio-Economic Culture\n• June 12 – Grey & Green Environmentalism\n• June 26 – Service-Minded Culture\n• July 10 – Sustainability and Resilience\n• July 24 – Benefits and Goodness of Growth\n• August 7 – Affordable Longmont\n• August 21 – Transportation & Infrastructure\n• September 4 – Making an Impact \nMEET THE CANDIDATES:\n• September 18 – Meet the Candidates\n• October 2 – Meet the Candidates\n• October 16 – Meet the Candidates\n• October 30 – Meet the Candidates \nno registration required
URL:https://sossas.org/event/pints-perspectives-sustainability-and-resilience/
LOCATION:Left Hand Tasting Room\, 1265 Boston Ave\, Longmont\, CO\, United States
END:VEVENT
BEGIN:VEVENT
DTSTART;TZID=UTC:20250626T180000
DTEND;TZID=UTC:20250626T200000
DTSTAMP:20260422T225604
CREATED:20250616T172740Z
LAST-MODIFIED:20250616T172740Z
UID:1550-1750960800-1750968000@sossas.org
SUMMARY:Pints & Perspectives: Service Minded Culture
DESCRIPTION:Hosted by Left Hand Brewing Co and School of Statesmanship\, Stewardship\, and Service (SOSSAS)\, Pints & Perspectives is a FREE bi-weekly series design to foster enriching conversation on topics affecting the community of Longmont and beyond. The series boasts rich subject matter like understanding trends & change in our town to designing the future of our town\, culminating in the opportunity to meet candidates running for office in Longmont. \nThursdays\, 6-8pm\nMay 29 – Oct 30\, 2025 \nLeft Hand Tasting Room\n1265 Boston Ave\, Longmont\, CO \nDISCUSSION TOPICS:\n• May 29 – Healthy Socio-Economic Culture\n• June 12 – Grey & Green Environmentalism\n• June 26 – Service-Minded Culture\n• July 10 – Sustainability and Resilience\n• July 24 – Benefits and Goodness of Growth\n• August 7 – Affordable Longmont\n• August 21 – Transportation & Infrastructure\n• September 4 – Making an Impact \nMEET THE CANDIDATES:\n• September 18 – Meet the Candidates\n• October 2 – Meet the Candidates\n• October 16 – Meet the Candidates\n• October 30 – Meet the Candidates \nno registration required
URL:https://sossas.org/event/pints-perspectives-service-minded-culture/
LOCATION:Left Hand Tasting Room\, 1265 Boston Ave\, Longmont\, CO\, United States
END:VEVENT
BEGIN:VEVENT
DTSTART;TZID=UTC:20250308T090000
DTEND;TZID=UTC:20250308T163000
DTSTAMP:20260422T225604
CREATED:20250127T214942Z
LAST-MODIFIED:20250127T220038Z
UID:1518-1741424400-1741451400@sossas.org
SUMMARY:Leadership in La Junta\, ‘Bringing Community Together’
DESCRIPTION:Join us Saturday\, March 8th\, to expand & activate the goodness. \nOpen to anyone interested in creating a healthy & thriving community through learning stewardship and service principles.\nPresented by: \n\nMike Butler\, Public Safety Chief (Ret)\, Longmont\, Colorado\nCarol Engel-Enright\, Ph.D.\, Design Thinking and Social-Emotional Skills\, C.S.U\nStephanie Rossi\, M.S.\, Education\, Civic Educator. Jefferson County Schools\n\n\nSchedule: \nMorning Session 9-12pm \n\nAttributes and Qualities of Statesmanship\nCivic Engagement and Creating a Sense of Ownership in the Community\nActive and Empathic Listening\n\nAfternoon Session\, 1:30-4:30pm \n\nQuality Conversations and Civil Discourse\nNature of Accountability and Action of Active Citizens\nStewardship Models vs. Traditional Leadership Models\nLeveraging Stewardship Principles for the ‘Good of the Whole’\n\nThis is a free event\, please email email Carol at carol@sossas.org
URL:https://sossas.org/event/leadership-in-la-junta-bringing-community-together/
LOCATION:La Junta Chamber of Commerce\, 110 Santa Fe Ave\, La Junta\, CO\, 81050\, United States
ORGANIZER;CN="SOSSAS":MAILTO:carol@sossas.org
END:VEVENT
BEGIN:VEVENT
DTSTART;TZID=UTC:20250113T180000
DTEND;TZID=UTC:20250210T193000
DTSTAMP:20260422T225604
CREATED:20241028T202236Z
LAST-MODIFIED:20241106T222919Z
UID:1479-1736791200-1739215800@sossas.org
SUMMARY:The Future of Active Citizenship
DESCRIPTION:It is time for citizens to reclaim their power\, to work together to create a vision for their communities\, state and nation. These classes will discuss how to focus and leverage all that is ‘good’ in the community\, the art of inviting and convening active citizens\, and working with different generational values. \nMondays\, from January 13 – February 10\, 2025 \n6pm to 7:30 p.m. \nLongmont Chamber of Commerce\n528 Main St\, Longmont\, CO 80501 \nSIGNUP HERE
URL:https://sossas.org/event/the-future-of-active-citizenship/
LOCATION:Longmont Chamber of Commerce\, 528 Main Street\, Longmont\, CO\, United States
END:VEVENT
BEGIN:VEVENT
DTSTART;TZID=UTC:20241010T000000
DTEND;TZID=UTC:20241010T013000
DTSTAMP:20260422T225604
CREATED:20240806T192850Z
LAST-MODIFIED:20240903T193905Z
UID:1347-1728518400-1728523800@sossas.org
SUMMARY:Rights with Responsibilities: Democracy and the Community - Week 5
DESCRIPTION:Discover how your unique contributions can strengthen the fabric of our democracy. Join us to master the art of framing perspectives and fostering meaningful community connections. \nWednesday evenings\, 6-7:30pm\nSeptember 11 – October 9\, 2024 \nPurchase tickets:\nclick here to signup
URL:https://sossas.org/event/rights-with-responsibilities-democracy-and-the-community-week-5/
LOCATION:Longmont Chamber of Commerce\, 528 Main Street\, Longmont\, CO\, United States
END:VEVENT
BEGIN:VEVENT
DTSTART;TZID=UTC:20241003T000000
DTEND;TZID=UTC:20241003T013000
DTSTAMP:20260422T225604
CREATED:20240806T192751Z
LAST-MODIFIED:20240903T193911Z
UID:1344-1727913600-1727919000@sossas.org
SUMMARY:Rights with Responsibilities: Democracy and the Community - Week 4
DESCRIPTION:Discover how your unique contributions can strengthen the fabric of our democracy. Join us to master the art of framing perspectives and fostering meaningful community connections. \nWednesday evenings\, 6-7:30pm\nSeptember 11 – October 9\, 2024 \nPurchase tickets:\nclick here to signup
URL:https://sossas.org/event/rights-with-responsibilities-democracy-and-the-community-week-4/
LOCATION:Longmont Chamber of Commerce\, 528 Main Street\, Longmont\, CO\, United States
END:VEVENT
BEGIN:VEVENT
DTSTART;TZID=UTC:20240926T000000
DTEND;TZID=UTC:20240926T013000
DTSTAMP:20260422T225604
CREATED:20240806T192639Z
LAST-MODIFIED:20240903T193914Z
UID:1341-1727308800-1727314200@sossas.org
SUMMARY:Rights with Responsibilities: Democracy and the Community - Week 3
DESCRIPTION:Discover how your unique contributions can strengthen the fabric of our democracy. Join us to master the art of framing perspectives and fostering meaningful community connections. \nWednesday evenings\, 6-7:30pm\nSeptember 11 – October 9\, 2024 \nPurchase tickets:\nclick here to signup
URL:https://sossas.org/event/rights-with-responsibilities-democracy-and-the-community-week-3/
LOCATION:Longmont Chamber of Commerce\, 528 Main Street\, Longmont\, CO\, United States
END:VEVENT
BEGIN:VEVENT
DTSTART;TZID=UTC:20240919T000000
DTEND;TZID=UTC:20240919T013000
DTSTAMP:20260422T225604
CREATED:20240806T192540Z
LAST-MODIFIED:20240903T193922Z
UID:1338-1726704000-1726709400@sossas.org
SUMMARY:Rights with Responsibilities: Democracy and the Community - Week 2
DESCRIPTION:Discover how your unique contributions can strengthen the fabric of our democracy. Join us to master the art of framing perspectives and fostering meaningful community connections. \nWednesday evenings\, 6-7:30pm\nSeptember 11 – October 9\, 2024 \nPurchase tickets:\nclick here to signup
URL:https://sossas.org/event/rights-with-responsibilities-democracy-and-the-community-week-2/
LOCATION:Longmont Chamber of Commerce\, 528 Main Street\, Longmont\, CO\, United States
END:VEVENT
BEGIN:VEVENT
DTSTART;TZID=UTC:20240912T000000
DTEND;TZID=UTC:20240912T013000
DTSTAMP:20260422T225604
CREATED:20240806T192420Z
LAST-MODIFIED:20240905T142428Z
UID:1333-1726099200-1726104600@sossas.org
SUMMARY:Rights with Responsibilities: Democracy and the Community - Week 1
DESCRIPTION:Discover how your unique contributions can strengthen the fabric of our democracy. Join us to master the art of framing perspectives and fostering meaningful community connections. \nWednesday evenings\, 6-7:30pm\nSeptember 11 – October 9\, 2024 \nPurchase tickets:\nclick here to signup \n(You can also pay at the 1st class by using a check)
URL:https://sossas.org/event/rights-with-responsibilities-democracy-and-the-community-week-1/
LOCATION:Longmont Chamber of Commerce\, 528 Main Street\, Longmont\, CO\, United States
END:VEVENT
END:VCALENDAR